BEGIN:VCALENDAR
VERSION:2.0
PRODID:-//The Desert of Mississippi - ECPv6.7.0//NONSGML v1.0//EN
CALSCALE:GREGORIAN
METHOD:PUBLISH
X-ORIGINAL-URL:https://desertofms.org
X-WR-CALDESC:Events for The Desert of Mississippi
REFRESH-INTERVAL;VALUE=DURATION:PT1H
X-Robots-Tag:noindex
X-PUBLISHED-TTL:PT1H
BEGIN:VTIMEZONE
TZID:America/Chicago
BEGIN:DAYLIGHT
TZOFFSETFROM:-0600
TZOFFSETTO:-0500
TZNAME:CDT
DTSTART:20250309T080000
END:DAYLIGHT
BEGIN:STANDARD
TZOFFSETFROM:-0500
TZOFFSETTO:-0600
TZNAME:CST
DTSTART:20251102T070000
END:STANDARD
END:VTIMEZONE
BEGIN:VEVENT
DTSTART;VALUE=DATE:20250423
DTEND;VALUE=DATE:20250427
DTSTAMP:20260423T171819
CREATED:20240928T002918Z
LAST-MODIFIED:20240928T010825Z
UID:6771-1745424000-1745769599@desertofms.org
SUMMARY:Gala Day
DESCRIPTION:This is only a test.
URL:https://desertofms.org/event/gala-day/
CATEGORIES:Desert News,Event
ATTACH;FMTTYPE=image/jpeg:https://desertofms.org/wp-content/uploads/2024/01/AdobeStock_636025385-scaled.jpeg
END:VEVENT
END:VCALENDAR